
BEGIN:VCALENDAR
VERSION:2.0
PRODID:-//Colegio Oficial Ingenieros Informática Principado Asturias - ECPv4.0.7//NONSGML v1.0//EN
CALSCALE:GREGORIAN
METHOD:PUBLISH
X-WR-CALNAME:Colegio Oficial Ingenieros Informática Principado Asturias
X-ORIGINAL-URL:https://coiipa.org
X-WR-CALDESC:Events for Colegio Oficial Ingenieros Informática Principado Asturias
BEGIN:VEVENT
DTSTART;TZID=Europe/Madrid:20170426T110000
DTEND;TZID=Europe/Madrid:20170426T130000
DTSTAMP:20260424T104426
CREATED:20170419T094230
LAST-MODIFIED:20170419T094230
UID:10715-1493204400-1493211600@coiipa.org
SUMMARY:25 aniversario de la titulación de ingeniero en informática en Asturias
DESCRIPTION:El próximo 26 de abril se celebrará un acto en la Escuela Politécnica de Ingeniería de Gijón para conmemorar el 25 aniversario de la implantación de la titulación de ingeniero en informática en la Universidad de Oviedo.\n\nEl acto\, en cuya organización colaboran el Colegio Oficial de Ingenieros en Informática del Principado de Asturias (COIIPA) y el Colegio Oficial de Ingenieros Técnicos en Informática del Principado de Asturias (CITIPA) tendrá el siguiente programa:\n\n \t11:00. Inauguración de la Jornada.\n \t11:30. Conferencia sobre "Evolución y retos de la ingeniería informática en la construcción de la Sociedad de la Información" a cargo de D. Juan Pablo Peñarrubia Carrión\, presidente del Consejo General de Colegios Profesionales de Ingeniería Informática.\n \t12:00. Entrega de premios de los colegios profesionales a los mejores trabajos fin de estudios (ver bases del premio Alan Turing del COIIPA).\n \t12:15. Inauguración de la primera vitrina del Museo de la Informática.\n\nLa asistencia es libre y gratuita previa inscripción: formulario de inscripción.\n\nDesde COIIPA queremos destacar y agradecer que el Presidente del Consejo de Colegios pueda acompañarnos en un día tan señalado.\n\n
URL:https://coiipa.org/event/25-aniversario-titulacion-ingeniero-informatica-asturias/
LOCATION:Plaza Campus Universitario\, 92A\, 33394\, Asturias\, Gijón
CATEGORIES:Evento externo
ATTACH;FMTTYPE=image/jpeg:https://coiipa.org/wp-content/uploads/2017/04/cartel-aniversario-ing-informatica-HORIZONTAL.jpg
END:VEVENT
END:VCALENDAR