
BEGIN:VCALENDAR
VERSION:2.0
PRODID:-//Colegio Oficial Ingenieros Informática Principado Asturias - ECPv4.0.7//NONSGML v1.0//EN
CALSCALE:GREGORIAN
METHOD:PUBLISH
X-WR-CALNAME:Colegio Oficial Ingenieros Informática Principado Asturias
X-ORIGINAL-URL:https://coiipa.org
X-WR-CALDESC:Events for Colegio Oficial Ingenieros Informática Principado Asturias
BEGIN:VEVENT
DTSTART;TZID=Europe/Madrid:20160603T160000
DTEND;TZID=Europe/Madrid:20160604T133000
DTSTAMP:20260419T125103
CREATED:20160518T085230
LAST-MODIFIED:20160518T085628
UID:10232-1464969600-1465047000@coiipa.org
SUMMARY:Curso sobre calidad y pruebas de aplicaciones móviles
DESCRIPTION:Los Colegios Oficiales de Ingenieros en Informática e Ingenieros en Informática ofrecen dos cursos de corta duración sobre calidad y pruebas en aplicaciones web y móviles.\n\nEl primer curso\, denominado Módulo 1\, tratará sobre la automatización de pruebas para el desarrollo de aplicaciones móviles utilizando la herramienta Appium. El módulo está dirigido a ingenieros e ingenieros técnicos en informática y\, en general\, a profesionales que se encarguen de la calidad y prueba de aplicaciones móviles. Aunque no es imprescindible\, sí resulta recomendable tener conocimientos de desarrollo en Java ó Javascript y nociones de JUnit.\n\nEl módulo se estructurará en dos sesiones de cuatro horas: viernes de 16 a 20 y sábado de 9:30 a 13:30.\n\nEl formador del módulo 1 será D. Ignacio Marín\, ingeniero en informática con una amplia experiencia en desarrollo de software para dispositivos móviles\, que actualmente ocupa el puesto de fundador y CEO en Ubiqware. Ignacio es miembro del Colegio Oficial de Ingenieros en Informática del Principado de Asturias.\n\nEn la semana siguiente se ofrecerá un segundo módulo con una temática relacionada: la prueba de aplicaciones web. Se venden entradas para cada módulo por separado y también para los dos módulos\, con una pequeña rebaja de precio.\n\nMás información sobre los cursos en nuestra web.
URL:https://coiipa.org/event/curso-calidad-pruebas-aplicaciones-moviles-modulo-1/
LOCATION:Campus de Gijón\, Calle Fojanes\, s/n\, Gijón\, Asturias\, 33204\, España
CATEGORIES:Cursos de formación
ATTACH;FMTTYPE=image/png:https://coiipa.org/wp-content/uploads/2016/05/2016-Curso-Testing-apps-y-web-márgenes.png
END:VEVENT
END:VCALENDAR