
BEGIN:VCALENDAR
VERSION:2.0
PRODID:-//Colegio Oficial Ingenieros Informática Principado Asturias - ECPv4.0.7//NONSGML v1.0//EN
CALSCALE:GREGORIAN
METHOD:PUBLISH
X-WR-CALNAME:Colegio Oficial Ingenieros Informática Principado Asturias
X-ORIGINAL-URL:https://coiipa.org
X-WR-CALDESC:Events for Colegio Oficial Ingenieros Informática Principado Asturias
BEGIN:VEVENT
DTSTART;TZID=Europe/Madrid:20181105T180000
DTEND;TZID=Europe/Madrid:20181109T200000
DTSTAMP:20260421T054409
CREATED:20180929T201932
LAST-MODIFIED:20180929T202132
UID:11082-1541440800-1541793600@coiipa.org
SUMMARY:Curso: Reglamento General de Protección de Datos
DESCRIPTION:Abierta la inscripción para el curso de Reglamento General de Protección de Datos\, previsto para los días 5\, 6\, 7\, 8 y 9 de noviembre en Oviedo.\n\nInformación y entradas aquí
URL:https://coiipa.org/event/curso-reglamento-general-de-proteccion-de-datos/
LOCATION:Calle Purita de la Riva\, 6\, Oviedo\, Asturias\, España
CATEGORIES:Cursos de formación
ATTACH;FMTTYPE=image/jpeg:https://coiipa.org/wp-content/uploads/2018/09/d7117dfb-5abc-41be-adc7-13d99fc0d882.jpg
END:VEVENT
END:VCALENDAR