
BEGIN:VCALENDAR
VERSION:2.0
PRODID:-//Colegio Oficial Ingenieros Informática Principado Asturias - ECPv4.0.7//NONSGML v1.0//EN
CALSCALE:GREGORIAN
METHOD:PUBLISH
X-WR-CALNAME:Colegio Oficial Ingenieros Informática Principado Asturias
X-ORIGINAL-URL:https://coiipa.org
X-WR-CALDESC:Events for Colegio Oficial Ingenieros Informática Principado Asturias
BEGIN:VEVENT
DTSTART;VALUE=DATE:20160515
DTEND;VALUE=DATE:20160515
DTSTAMP:20260420T081549
CREATED:20160517
LAST-MODIFIED:20160517
UID:10208-1463270400-1463356799@coiipa.org
SUMMARY:Talleres "hora del código" en la jornada de puertas abiertas de Laboral Ciudad de la Cultura
DESCRIPTION:Los Colegios Oficiales de Ingenieros en Informática e Ingenieros Técnicos en Informática del Principado de Asturias (COIIPA y CITIPA) organizaron tres talleres “Hora del código” para niños entre 6 y 12 años con motivo del día de Internet y durante la jornada de puertas abiertas de Laboral Ciudad de la Cultura\, el domingo día 15 de mayo.\n\nLa hora del código es un movimiento global que llega a millones de estudiantes en más de 180 países\, permitiéndoles sumergirse en la informática y la programación de ordenadores de la mano de profesionales de la ingeniería informática.\n\nLas características de estos talleres\, impartidos por nuestros colegiados D. Juan José Romero Marras y Dña. Mónica Alonso González\, son las siguientes:\n\n \tDirigido a: niños entre 6 y 12 años.\n \tLugar: Sala 1 del Teatro.\n \tDuración: 60 minutos.\n \tHorarios: a las 12:00\, 16:30 y 18:30 h.\n\nPueden verse fotos de los talleres en la página de Facebook de Laboral Ciudad de la Cultura.
URL:https://coiipa.org/event/horas-del-codigo-las-jornadas-puertas-abiertas-la-laboral-ciudad-la-cultura/
LOCATION:Calle de Luis Moya Blanco\, 261\, Gijón\, 33203\, España
CATEGORIES:Taller
ATTACH;FMTTYPE=image/png:https://coiipa.org/wp-content/uploads/2016/05/2015-Hora-del-Código-COIIPA-y-CITIPA-apoyan1-1024x5761.png
END:VEVENT
END:VCALENDAR