
BEGIN:VCALENDAR
VERSION:2.0
PRODID:-//Colegio Oficial Ingenieros Informática Principado Asturias - ECPv4.0.7//NONSGML v1.0//EN
CALSCALE:GREGORIAN
METHOD:PUBLISH
X-WR-CALNAME:Colegio Oficial Ingenieros Informática Principado Asturias
X-ORIGINAL-URL:https://coiipa.org
X-WR-CALDESC:Events for Colegio Oficial Ingenieros Informática Principado Asturias
BEGIN:VEVENT
DTSTART;TZID=Europe/Madrid:20180322T190000
DTEND;TZID=Europe/Madrid:20180322T203000
DTSTAMP:20260420T081610
CREATED:20180307T214852
LAST-MODIFIED:20180307T214852
UID:10930-1521745200-1521750600@coiipa.org
SUMMARY:Jornada de Educación Financiera: "De ahorrador a inversor"
DESCRIPTION:Ante tipos de interés muy por debajo de la inflación\, con un sistema de pensiones insostenible\, intentamos concienciar para mejorar la manera de ahorrar\, utilizando los vehículos de inversión más adecuados y así acercarnos al resto de países europeos más avanzados. Se hablará de fondos de inversión y de planes de pensiones como instrumentos de ahorro\, comentando sus ventajas\, desventajas \, diferencias\, haciendo mención a la fiscalidad en el IRPF y al Impuesto de sucesiones.\n\nMás información y registro
URL:https://coiipa.org/event/jornada-educacion-financiera-ahorrador-inversor/
LOCATION:Calle Purita de la Riva\, 6\, Oviedo\, Asturias\, España
CATEGORIES:Evento interno,Jornada Técnica
ATTACH;FMTTYPE=image/jpeg:https://coiipa.org/wp-content/uploads/2018/03/JornadaEducacionFinanciera.jpg
END:VEVENT
END:VCALENDAR