
BEGIN:VCALENDAR
VERSION:2.0
PRODID:-//Colegio Oficial Ingenieros Informática Principado Asturias - ECPv4.0.7//NONSGML v1.0//EN
CALSCALE:GREGORIAN
METHOD:PUBLISH
X-WR-CALNAME:Colegio Oficial Ingenieros Informática Principado Asturias
X-ORIGINAL-URL:https://coiipa.org
X-WR-CALDESC:Events for Colegio Oficial Ingenieros Informática Principado Asturias
BEGIN:VEVENT
DTSTART;TZID=Europe/Madrid:20160211T183000
DTEND;TZID=Europe/Madrid:20160211T203000
DTSTAMP:20260420T082421
CREATED:20160129T111757
LAST-MODIFIED:20160314T125249
UID:9946-1455215400-1455222600@coiipa.org
SUMMARY:Jornada Técnica: pruebas web con Selenium
DESCRIPTION:El próximo jueves 11 de febrero\, a las 18:30\, se celebrará una jornada técnica sobre pruebas web con la plataforma Selenium en la sede de los Colegios Oficiales de Ingenieros en Informática e Ingenieros Técnicos en Informática del Principado de Asturias.\n\nEl ponente de la jornada será D. Francisco Moreno\, Ingeniero en Informática con una amplia experiencia en la prueba de sistemas web utilizando la mencionada herramienta. La jornada tendrá un contenido teórico-práctico.\n\nMás información e inscripciones.
URL:https://coiipa.org/event/jornada-tecnica-pruebas-web-con-selenium/
LOCATION:Calle Purita de la Riva\, 6\, Oviedo\, Asturias\, España
CATEGORIES:Jornada Técnica
ATTACH;FMTTYPE=image/jpeg:https://coiipa.org/wp-content/uploads/2016/01/2016-Jornada-técnica-Pruebas-web-con-Selenium.jpg
END:VEVENT
END:VCALENDAR