
BEGIN:VCALENDAR
VERSION:2.0
PRODID:-//Colegio Oficial Ingenieros Informática Principado Asturias - ECPv4.0.7//NONSGML v1.0//EN
CALSCALE:GREGORIAN
METHOD:PUBLISH
X-WR-CALNAME:Colegio Oficial Ingenieros Informática Principado Asturias
X-ORIGINAL-URL:https://coiipa.org
X-WR-CALDESC:Events for Colegio Oficial Ingenieros Informática Principado Asturias
BEGIN:VEVENT
DTSTART;TZID=Europe/Madrid:20210707T180000
DTEND;TZID=Europe/Madrid:20210707T183000
DTSTAMP:20260421T192405
CREATED:20210702T110342
LAST-MODIFIED:20210702T110342
UID:11598-1625680800-1625682600@coiipa.org
SUMMARY:Primer Encuentro Impulso TIC: La peritación informática hoy: necesidad y oportunidad.
DESCRIPTION:Inauguramos los encuentros Impulso TIC como medio de divulgación de contenidos\, en formatos de entrevista\, conferencia\, debates\, etc.\, relacionados con el hipersector TIC\, al objeto de incrementar la contribución de COIIPA y CITIPA al conjunto de sus colegiados y también a diversos agentes TIC\, especialmente en el panorama asturiano.\n\nMotivación y oportunidad\n\nAprovechamos la reciente publicación del libro "La peritación informática paso a paso" para entrevistar a uno de sus autores\, Darío Álvarez Gutiérrez\, para hacer un balance de la situación actual en la peritación informática\, de sus necesidades y de las oportunidades profesionales que ofrece.\n\nPerfil de asistencia\n\nEn general\, egresados y estudiantes de ingeniería informática. La conferencia podría ajustarse también a las necesidades de profesionales y estudiantes de derecho con inquietudes sobre el tema.\n\nInfraestructura\, duración y asistencia\n\nLa conferencia se adapta a la impartición online\, incluyendo el soporte de alguna herramienta con perfil Webinar o similar. La duración es de 30 minutos y no se prevé límite de asistencia.\n\nEntrevistador\, Alberto A. Núñez Oliveira\n\nMáster Universitario en Comunicaciones\, Redes y Gestión de Contenidos (UNED); Certificación Universitaria en Conectividad\, Control y Redes de Nueva Generación (Universidad de Alcalá); Ingeniero Técnico en Informática de Sistemas (UNED). Consultor independiente con más 30 de años de experiencia en operaciones\, ingeniería y dirección TIC (Armada española y Telefónica España); Profesor asociado de la Universidad de Oviedo en el Departamento de Informática; Vocal de JG de CITIPA.\n\nEntrevistado\, Darío Álvarez Gutiérrez\n\nLicenciado en Informática por la Universidad de Málaga y Doctor en Informática por la Universidad de Oviedo. Catedrático de Escuela Universitaria del Departamento de Informática de la Universidad de Oviedo. Vicedecano del Colegio Oficial de Ingenieros en Informática del Principado de Asturias. Perito judicial en Informática con más de 20 años de experiencia. Coautor del libro "La peritación informática paso a paso".\n\n \n\nDetalle del Contenido\n\nSe abordará la peritación informática\, desde varias perspectivas\, buscando cubrir el posible interés de titulados y estudiantes de ingeniería informática\, profesionales del derecho y\, en general\, personas con necesidades o intereses en la cuestión: ámbitos de aplicación\, especialmente el legal; subdisciplinas TIC cubiertas; tipos de actividad y casos reales; listas profesionales\, procedimiento ; formación generalista de background y oportunidad profesional en crecimiento\, principal o secundaria\, para el ingeniero en informática.
URL:https://coiipa.org/event/primer-encuentro-impulso-tic-la-peritacion-informatica-hoy-necesidad-y-oportunidad/
CATEGORIES:Charla
ATTACH;FMTTYPE=image/jpeg:https://coiipa.org/wp-content/uploads/2021/07/https___cdn.evbuc_.com_images_140040037_455579306940_1_original.jpg
END:VEVENT
BEGIN:VEVENT
DTSTART;TZID=Europe/Madrid:20190517T123000
DTEND;TZID=Europe/Madrid:20190517T140000
DTSTAMP:20260421T192405
CREATED:20190503T092545
LAST-MODIFIED:20190503T092632
UID:11180-1558096200-1558101600@coiipa.org
SUMMARY:¿Hay que tener miedo a la Inteligencia Artificial? Aspectos éticos.
DESCRIPTION:¿Hay que tener miedo a la Inteligencia Artificial?\nLa inteligencia artificial está\, con muchas otras técnicas relacionadas con la informática y las tecnologías de la información\, transformando la sociedad. El impacto de estas tecnologías es enorme en las gestiones realizadas por las empresas y su productividad\, en las administraciones públicas y cómo se relacionan con los ciudadanos\, en la toma de decisiones a todos los niveles e incluso en el ámbito de los derechos ciudadanos. ¿Hay que tener miedo a estas tecnologías?\n\nEn esta charla se pondrá el foco en la necesidad de aplicar principios éticos en el ámbito de las tecnologías de la información\, sobre todo en aquellas actividades y servicios de interés general. En ese sentido resulta fundamental el consenso entre todas las partes implicadas y la implantación de mecanismos de autorregulación. Se describirán las actividades llevadas a cabo desde el Consejo General de Colegios en este ámbito y los planes de futuro\, y en concreto se describirá el estado de definición del código deontológico nacional para los ingenieros en informática.\nPonente\nD. Fernando Suárez Lorenzo. Vicepresidente del Consejo General de Colegios Profesionales de Ingeniería Informática. Presidente del Colexio Profesional de Enxeñaría en Informática de Galicia (CPEIG). Director del Área de Transparencia y Gobierno Abierto de la Deputación de Ourense.
URL:https://coiipa.org/event/hay-que-tener-miedo-a-la-inteligencia-artificial-aspectos-eticos/
LOCATION:Gijón\, España
CATEGORIES:Charla
ATTACH;FMTTYPE=image/jpeg:https://coiipa.org/wp-content/uploads/2019/05/https___cdn.evbuc_.com_images_61556144_144089957373_1_original.jpg
END:VEVENT
BEGIN:VEVENT
DTSTART;TZID=Europe/Madrid:20180517T100000
DTEND;TZID=Europe/Madrid:20180517T120000
DTSTAMP:20260421T192405
CREATED:20180516T074926
LAST-MODIFIED:20180516T084632
UID:10988-1526551200-1526558400@coiipa.org
SUMMARY:Día de Internet y charla sobre las profesiones relacionadas con la ingeniería informática
DESCRIPTION:El próximo jueves 17 de mayo el Colegio Oficial de Ingenieros en Informática del Principado de Asturias (COIIPA) ofrecerá una charla en el Instituto de Educación Secundaria Cristo del Socorro de Luanco\, coincidiendo con el Día de Internet. El ponente será el Decano del COIIPA\, que hablará a los alumnos\, padres y profesores presentes sobre las profesiones relacionadas con la ingeniería informática. El objetivo es promover nuestra profesión entre alumnos de educación secundaria y bachillerato de dicho centro\, animándolos a convertirse en los futuros ingenieros en informática.\n\nEl acto\, que comenzará a las 10h\, está promovido por el propio centro educativo y por el Departamento de Informática de la Universidad de Oviedo. Durante el mismo también se presentarán los estudios de ingeniería informática tanto de la Escuela de Ingeniería Informática de Oviedo como de la Escuela Politécnica de Ingeniería de Gijón.\n\n \n\n\n\n\n\n\n\n \n\n \n\n \n\n\n\nFoto de la iglesia de Luanco by aherrero [CC BY 2.0 (https://creativecommons.org/licenses/by/2.0)] via Wikimedia Commons.
URL:https://coiipa.org/event/dia-internet-charla-las-profesiones-relacionadas-la-ingenieria-informatica/
CATEGORIES:Charla
ATTACH;FMTTYPE=image/png:https://coiipa.org/wp-content/uploads/2018/05/diaInternet.png
END:VEVENT
END:VCALENDAR